BEGIN:VCALENDAR
VERSION:2.0
PRODID:spatie/icalendar-generator
DESCRIPTION:Events from AIA Central Oklahoma
X-WR-CALDESC:Events from AIA Central Oklahoma
REFRESH-INTERVAL;VALUE=DURATION:PT1440M
X-PUBLISHED-TTL:PT1440M
BEGIN:VTIMEZONE
TZID:America/Chicago
BEGIN:DAYLIGHT
DTSTART:20240310T020000Z
TZOFFSETFROM:-0600
TZOFFSETTO:-0500
END:DAYLIGHT
BEGIN:STANDARD
DTSTART:20241103T020000Z
TZOFFSETFROM:-0500
TZOFFSETTO:-0600
END:STANDARD
END:VTIMEZONE
BEGIN:VTIMEZONE
TZID:UTC
BEGIN:STANDARD
DTSTART:20250725T225816Z
TZOFFSETFROM:+0000
TZOFFSETTO:+0000
END:STANDARD
END:VTIMEZONE
BEGIN:VEVENT
UID:57-53
DTSTAMP:20260421T225816Z
SUMMARY:Cocktails &amp;amp\; Credits with GreenLight 360
LOCATION:
ORGANIZER;CN=Melissa Hunt:MAILTO:melissa@aiacoc.org
DTSTART;TZID=America/Chicago:20240904T163000
DTEND;TZID=America/Chicago:20240904T183000
X-ALT-DESC;FMTTYPE=TEXT/HTML:Improved Project Outcomes Through Laser Scanni
 ng (1 LU) How to achieve the best possible results for your remodel projec
 t by understanding how Level of Detail (LOD) and Level of Accuracy (LOA) a
 ffect your Level of Documentation (LOD) on a project. How a responsive sca
 nning method can achieve both the client’s and designer’s different ne
 eds on&amp;hellip\;
CATEGORIES:General
URL;VALUE=URI:https://aiacoc.org/mc-events/cocktails-credits-with-greenligh
 t-360/
METHOD:PUBLISH
END:VEVENT
END:VCALENDAR