BEGIN:VCALENDAR
VERSION:2.0
PRODID:spatie/icalendar-generator
DESCRIPTION:Events from AIA Central Oklahoma
X-WR-CALDESC:Events from AIA Central Oklahoma
REFRESH-INTERVAL;VALUE=DURATION:PT1440M
X-PUBLISHED-TTL:PT1440M
BEGIN:VTIMEZONE
TZID:America/Chicago
BEGIN:DAYLIGHT
DTSTART:20250309T020000Z
TZOFFSETFROM:-0600
TZOFFSETTO:-0500
END:DAYLIGHT
BEGIN:STANDARD
DTSTART:20251102T020000Z
TZOFFSETFROM:-0500
TZOFFSETTO:-0600
END:STANDARD
BEGIN:DAYLIGHT
DTSTART:20260308T020000Z
TZOFFSETFROM:-0600
TZOFFSETTO:-0500
END:DAYLIGHT
END:VTIMEZONE
BEGIN:VTIMEZONE
TZID:UTC
BEGIN:STANDARD
DTSTART:20250727T082634Z
TZOFFSETFROM:+0000
TZOFFSETTO:+0000
END:STANDARD
END:VTIMEZONE
BEGIN:VEVENT
UID:216-203
DTSTAMP:20260423T082634Z
SUMMARY:Office Closed - Melissa Vacation
LOCATION:
ORGANIZER;CN=Melissa Hunt:MAILTO:melissa@aiacoc.org
DTSTART;TZID=America/Chicago:20250909T080000
DTEND;TZID=America/Chicago:20250912T170000
X-ALT-DESC;FMTTYPE=TEXT/HTML:The AIA Office will be closed as I take some t
 ime off with family in town for the Cheers to 30 Years Party.  I will be 
 checking email and phone messages so you can call 405-948-7174 or email me
 lissa@aiacoc.org if you need assistance. &amp;nbsp\;
CATEGORIES:General
URL;VALUE=URI:https://aiacoc.org/mc-events/office-closed-melissa-vacation-5
 /
METHOD:PUBLISH
END:VEVENT
END:VCALENDAR