BEGIN:VCALENDAR
VERSION:2.0
PRODID:spatie/icalendar-generator
DESCRIPTION:Events from AIA Central Oklahoma
X-WR-CALDESC:Events from AIA Central Oklahoma
REFRESH-INTERVAL;VALUE=DURATION:PT1440M
X-PUBLISHED-TTL:PT1440M
BEGIN:VTIMEZONE
TZID:America/Chicago
BEGIN:DAYLIGHT
DTSTART:20240310T020000Z
TZOFFSETFROM:-0600
TZOFFSETTO:-0500
END:DAYLIGHT
BEGIN:STANDARD
DTSTART:20241103T020000Z
TZOFFSETFROM:-0500
TZOFFSETTO:-0600
END:STANDARD
END:VTIMEZONE
BEGIN:VTIMEZONE
TZID:UTC
BEGIN:STANDARD
DTSTART:20250727T093259Z
TZOFFSETFROM:+0000
TZOFFSETTO:+0000
END:STANDARD
END:VTIMEZONE
BEGIN:VEVENT
UID:94-89
DTSTAMP:20260423T093259Z
SUMMARY:Office Closed
LOCATION:
ORGANIZER;CN=Melissa Hunt:MAILTO:melissa@aiacoc.org
DTSTART;TZID=America/Chicago:20240830T080000
DTEND;TZID=America/Chicago:20240830T170000
X-ALT-DESC;FMTTYPE=TEXT/HTML:The AIACOC Office is closed - Melissa taking a
  vacation day.
CATEGORIES:General
URL;VALUE=URI:https://aiacoc.org/mc-events/office-closed-6/
METHOD:PUBLISH
END:VEVENT
END:VCALENDAR