BEGIN:VCALENDAR
VERSION:2.0
PRODID:spatie/icalendar-generator
DESCRIPTION:Events from AIA Central Oklahoma
X-WR-CALDESC:Events from AIA Central Oklahoma
REFRESH-INTERVAL;VALUE=DURATION:PT1440M
X-PUBLISHED-TTL:PT1440M
BEGIN:VTIMEZONE
TZID:America/Chicago
BEGIN:STANDARD
DTSTART:20241103T020000Z
TZOFFSETFROM:-0500
TZOFFSETTO:-0600
END:STANDARD
BEGIN:DAYLIGHT
DTSTART:20250309T020000Z
TZOFFSETFROM:-0600
TZOFFSETTO:-0500
END:DAYLIGHT
END:VTIMEZONE
BEGIN:VTIMEZONE
TZID:UTC
BEGIN:STANDARD
DTSTART:20250725T110427Z
TZOFFSETFROM:+0000
TZOFFSETTO:+0000
END:STANDARD
END:VTIMEZONE
BEGIN:VEVENT
UID:154-143
DTSTAMP:20260421T110427Z
SUMMARY:Women in Architecture at Bethany Schools
LOCATION:
ORGANIZER;CN=Melissa Hunt:MAILTO:melissa@aiacoc.org
DTSTART;TZID=America/Chicago:20250415T120000
DTEND;TZID=America/Chicago:20250415T153000
X-ALT-DESC;FMTTYPE=TEXT/HTML:The Women in Architecture will be at Bethany P
 ublic Schools to work with students and share a day in the life of an arch
 itect with the Middle School students.  We will be working with the stude
 nts on a fun activity while exposing them to architects and architecture.
   There are two classes 12:20 - 1:10 p.m.&amp;hellip\;
CATEGORIES:General
URL;VALUE=URI:https://aiacoc.org/mc-events/women-in-architecture-at-bethany
 -schools/
METHOD:PUBLISH
END:VEVENT
END:VCALENDAR